BEGIN:VCALENDAR
VERSION:2.0
PRODID:-//Village of South Webster - ECPv6.15.20//NONSGML v1.0//EN
CALSCALE:GREGORIAN
METHOD:PUBLISH
X-ORIGINAL-URL:https://southwebsterohio.gov
X-WR-CALDESC:Events for Village of South Webster
REFRESH-INTERVAL;VALUE=DURATION:PT1H
X-Robots-Tag:noindex
X-PUBLISHED-TTL:PT1H
BEGIN:VTIMEZONE
TZID:UTC
BEGIN:STANDARD
TZOFFSETFROM:+0000
TZOFFSETTO:+0000
TZNAME:UTC
DTSTART:20220101T000000
END:STANDARD
END:VTIMEZONE
BEGIN:VEVENT
DTSTART;TZID=UTC:20260209T190000
DTEND;TZID=UTC:20260209T200000
DTSTAMP:20260423T162809
CREATED:20260101T165650Z
LAST-MODIFIED:20260101T165650Z
UID:502-1770663600-1770667200@southwebsterohio.gov
SUMMARY:Village Council Meeting - February 2026
DESCRIPTION:
URL:https://southwebsterohio.gov/event/village-council-meeting-february-2026/
LOCATION:Senior Building\, 995 Webster Street\, South Webster\, OH\, 45682\, United States
END:VEVENT
BEGIN:VEVENT
DTSTART;TZID=UTC:20260112T190000
DTEND;TZID=UTC:20260112T200000
DTSTAMP:20260423T162809
CREATED:20260101T165443Z
LAST-MODIFIED:20260101T165524Z
UID:500-1768244400-1768248000@southwebsterohio.gov
SUMMARY:Village Council Meeting - January 2026
DESCRIPTION:
URL:https://southwebsterohio.gov/event/village-council-meeting-january-2026/
LOCATION:Senior Building\, 995 Webster Street\, South Webster\, OH\, 45682\, United States
END:VEVENT
BEGIN:VEVENT
DTSTART;TZID=UTC:20251208T190000
DTEND;TZID=UTC:20251208T200000
DTSTAMP:20260423T162809
CREATED:20250721T145000Z
LAST-MODIFIED:20250915T154425Z
UID:469-1765220400-1765224000@southwebsterohio.gov
SUMMARY:Village Council Meeting - December
DESCRIPTION:
URL:https://southwebsterohio.gov/event/village-council-meeting-december/
LOCATION:Senior Building\, 995 Webster Street\, South Webster\, OH\, 45682\, United States
END:VEVENT
BEGIN:VEVENT
DTSTART;TZID=UTC:20251110T190000
DTEND;TZID=UTC:20251110T200000
DTSTAMP:20260423T162809
CREATED:20250315T203548Z
LAST-MODIFIED:20250915T154333Z
UID:460-1762801200-1762804800@southwebsterohio.gov
SUMMARY:Village Council Meeting - November
DESCRIPTION:
URL:https://southwebsterohio.gov/event/village-council-meeting-november/
LOCATION:Senior Building\, 995 Webster Street\, South Webster\, OH\, 45682\, United States
END:VEVENT
BEGIN:VEVENT
DTSTART;TZID=UTC:20251013T190000
DTEND;TZID=UTC:20251013T200000
DTSTAMP:20260423T162809
CREATED:20250721T145328Z
LAST-MODIFIED:20250915T154133Z
UID:472-1760382000-1760385600@southwebsterohio.gov
SUMMARY:Village Council Meeting - October
DESCRIPTION:
URL:https://southwebsterohio.gov/event/village-council-meeting-october-2/
LOCATION:Senior Building\, 995 Webster Street\, South Webster\, OH\, 45682\, United States
END:VEVENT
BEGIN:VEVENT
DTSTART;TZID=UTC:20250502T093000
DTEND;TZID=UTC:20250504T180000
DTSTAMP:20260423T162809
CREATED:20250315T203834Z
LAST-MODIFIED:20250315T204429Z
UID:462-1746178200-1746381600@southwebsterohio.gov
SUMMARY:Spring Clean-Up
DESCRIPTION:Roll-off dumpsters will be available at the village maintenance shop Friday-Sunday May 2\,3\, and 4. \nPlease do not drop off tires\, chemicals\, or electronics.
URL:https://southwebsterohio.gov/event/spring-clean-up/
LOCATION:Village Maintenance Shop\, 225 Essman Sugar Camp\, South Webster\, OH\, 45682\, United States
END:VEVENT
BEGIN:VEVENT
DTSTART;TZID=UTC:20250310T190000
DTEND;TZID=UTC:20250310T200000
DTSTAMP:20260423T162809
CREATED:20250301T201800Z
LAST-MODIFIED:20250303T162813Z
UID:446-1741633200-1741636800@southwebsterohio.gov
SUMMARY:Village Council Meeting
DESCRIPTION:
URL:https://southwebsterohio.gov/event/village-council-meeting-3/
LOCATION:Senior Building\, 995 Webster Street\, South Webster\, OH\, 45682\, United States
END:VEVENT
BEGIN:VEVENT
DTSTART;TZID=UTC:20250217T180000
DTEND;TZID=UTC:20250217T190000
DTSTAMP:20260423T162809
CREATED:20250117T000508Z
LAST-MODIFIED:20250117T000508Z
UID:417-1739815200-1739818800@southwebsterohio.gov
SUMMARY:Zoning - Public Meeting
DESCRIPTION:A public meeting will be held to answer any questions on the new Zoning Regulations.
URL:https://southwebsterohio.gov/event/zoning-public-meeting/
LOCATION:Senior Building\, 995 Webster Street\, South Webster\, OH\, 45682\, United States
END:VEVENT
BEGIN:VEVENT
DTSTART;TZID=UTC:20250210T190000
DTEND;TZID=UTC:20250210T203000
DTSTAMP:20260423T162809
CREATED:20250117T000623Z
LAST-MODIFIED:20250117T000623Z
UID:420-1739214000-1739219400@southwebsterohio.gov
SUMMARY:Village Council Meeting
DESCRIPTION:
URL:https://southwebsterohio.gov/event/village-council-meeting-2/
LOCATION:Senior Building\, 995 Webster Street\, South Webster\, OH\, 45682\, United States
END:VEVENT
BEGIN:VEVENT
DTSTART;TZID=UTC:20231009T190000
DTEND;TZID=UTC:20231009T203000
DTSTAMP:20260423T162809
CREATED:20230918T232643Z
LAST-MODIFIED:20230918T232643Z
UID:301-1696878000-1696883400@southwebsterohio.gov
SUMMARY:Village Council Meeting - October
DESCRIPTION:
URL:https://southwebsterohio.gov/event/village-council-meeting-october/
LOCATION:OH
END:VEVENT
BEGIN:VEVENT
DTSTART;TZID=UTC:20230923T110000
DTEND;TZID=UTC:20230923T140000
DTSTAMP:20260423T162809
CREATED:20230724T174159Z
LAST-MODIFIED:20230830T002740Z
UID:135-1695466800-1695477600@southwebsterohio.gov
SUMMARY:South Webster - Bloom Township Fire Department Car Cruise-In
DESCRIPTION:Proceeds will benefit the Fire Department and Squad
URL:https://southwebsterohio.gov/event/south-webster-bllom-township-car-cruise-in/
LOCATION:South Webster Bloom Towhip Fire Depment\, 443 Jackson Street\, South Webster\, OH\, 45682\, United States
END:VEVENT
BEGIN:VEVENT
DTSTART;TZID=UTC:20230827T190000
DTEND;TZID=UTC:20230901T200000
DTSTAMP:20260423T162809
CREATED:20230731T192711Z
LAST-MODIFIED:20230731T192711Z
UID:139-1693162800-1693598400@southwebsterohio.gov
SUMMARY:Community Tent Revival
DESCRIPTION:
URL:https://southwebsterohio.gov/event/community-tent-revival/
LOCATION:OH
END:VEVENT
END:VCALENDAR